BEGIN:VCALENDAR
VERSION:2.0
PRODID:-//Tukios.com/
BEGIN:VEVENT
UID:92468975-2623-4542-92e3-262747123cf4@www.whiter-hendrix.com
DTSTAMP:20260424T000117Z
DTSTART:20260429T210000Z
DTEND:20260429T230000Z
SUMMARY:Visitation
DESCRIPTION:This is a time for family and friends to reminisce at calling 
	hours at the funeral home.
URL:https://www.whiter-hendrix.com/obituaries/beverly-sestir
LOCATION: 100 Otsego Street  Ilion NY 13357
GEO:43.0127924;-75.0379784
END:VEVENT
END:VCALENDAR