BEGIN:VCALENDAR
VERSION:2.0
PRODID:-//Tukios.com/
BEGIN:VEVENT
UID:677df2cd-f8c3-4cc8-9f34-bf2796be0b22@www.whiter-hendrix.com
DTSTAMP:20260424T000326Z
DTSTART:20260430T143000Z
DTEND:20260430T153000Z
SUMMARY:Funeral Service
DESCRIPTION:We will meet directly at the church on Thursday morning where 
	Bev's Mass of Christian Burial will begin at 10:30 AM.
URL:https://www.whiter-hendrix.com/obituaries/beverly-sestir
LOCATION: 50 West St  Ilion NY 13357
GEO:43.0144417;-75.0394844
END:VEVENT
END:VCALENDAR