BEGIN:VCALENDAR
VERSION:2.0
PRODID:-//Tukios.com/
BEGIN:VEVENT
UID:7d4f92e9-16db-4cad-bd29-6f87e2d6127b@www.whiter-hendrix.com
DTSTAMP:20260424T000311Z
DTSTART:20260430T160000Z
DTEND:20260430T161500Z
SUMMARY:Graveside Service
DESCRIPTION:Following the mass at church, we will process to St. Mary's 
	Cemetery on Route 5 in East Herkimer, where interment will take place.
URL:https://www.whiter-hendrix.com/obituaries/beverly-sestir
LOCATION:St. Mary's Cemetery State Route 5  East Herkimer NY 13350
GEO:43.0291458;-74.9671151
END:VEVENT
END:VCALENDAR