BEGIN:VCALENDAR
VERSION:2.0
PRODID:-//Tukios.com/
BEGIN:VEVENT
UID:05eb27b2-1d7e-479a-b85d-30df1c46a1bd@www.whiter-hendrix.com
DTSTAMP:20260422T215609Z
DTSTART:20260426T190000Z
DTEND:20260426T200000Z
SUMMARY:Celebration of Life
DESCRIPTION:Please join the family in honoring Karen's beautiful life at 
	this church service in her honor.
URL:https://www.whiter-hendrix.com/obituaries/karen-gardeski
LOCATION:Redeemer Church 931 Herkimer Road  Utica NY 13502
GEO:43.1122329;-75.1870882
END:VEVENT
END:VCALENDAR